BEGIN:VCALENDAR
VERSION:2.0
PRODID:-//Tiptree Parish Council - ECPv6.15.20//NONSGML v1.0//EN
CALSCALE:GREGORIAN
METHOD:PUBLISH
X-ORIGINAL-URL:https://www.tiptreeparishcouncil.gov.uk
X-WR-CALDESC:Events for Tiptree Parish Council
REFRESH-INTERVAL;VALUE=DURATION:PT1H
X-Robots-Tag:noindex
X-PUBLISHED-TTL:PT1H
BEGIN:VTIMEZONE
TZID:Europe/London
BEGIN:DAYLIGHT
TZOFFSETFROM:+0000
TZOFFSETTO:+0100
TZNAME:BST
DTSTART:20250330T010000
END:DAYLIGHT
BEGIN:STANDARD
TZOFFSETFROM:+0100
TZOFFSETTO:+0000
TZNAME:GMT
DTSTART:20251026T010000
END:STANDARD
BEGIN:DAYLIGHT
TZOFFSETFROM:+0000
TZOFFSETTO:+0100
TZNAME:BST
DTSTART:20260329T010000
END:DAYLIGHT
BEGIN:STANDARD
TZOFFSETFROM:+0100
TZOFFSETTO:+0000
TZNAME:GMT
DTSTART:20261025T010000
END:STANDARD
BEGIN:DAYLIGHT
TZOFFSETFROM:+0000
TZOFFSETTO:+0100
TZNAME:BST
DTSTART:20270328T010000
END:DAYLIGHT
BEGIN:STANDARD
TZOFFSETFROM:+0100
TZOFFSETTO:+0000
TZNAME:GMT
DTSTART:20271031T010000
END:STANDARD
END:VTIMEZONE
BEGIN:VEVENT
DTSTART;TZID=Europe/London:20260303T184500
DTEND;TZID=Europe/London:20260303T201500
DTSTAMP:20260422T152324
CREATED:20260109T103838Z
LAST-MODIFIED:20260302T122643Z
UID:6508-1772563500-1772568900@www.tiptreeparishcouncil.gov.uk
SUMMARY:Full Council meeting
DESCRIPTION:Agenda for the Full council meeting
URL:https://www.tiptreeparishcouncil.gov.uk/calendar/full-council-meeting-6/
LOCATION:Tiptree Community Centre – The Small Hall
ORGANIZER;CN="Tiptree Parish Council":MAILTO:clerk@tiptreeparishcouncil.gov.uk
END:VEVENT
BEGIN:VEVENT
DTSTART;TZID=Europe/London:20260303T201500
DTEND;TZID=Europe/London:20260303T201500
DTSTAMP:20260422T152324
CREATED:20260109T104023Z
LAST-MODIFIED:20260225T153744Z
UID:6511-1772568900-1772568900@www.tiptreeparishcouncil.gov.uk
SUMMARY:Planning & Highways Committee Meeting
DESCRIPTION:Planning & Highways Committee Agenda
URL:https://www.tiptreeparishcouncil.gov.uk/calendar/planning-highways-committee-meeting-3/
LOCATION:Tiptree Community Centre – The Small Hall
ORGANIZER;CN="Tiptree Parish Council":MAILTO:clerk@tiptreeparishcouncil.gov.uk
END:VEVENT
END:VCALENDAR