BEGIN:VCALENDAR
VERSION:2.0
PRODID:-//Tiptree Parish Council - ECPv6.15.20//NONSGML v1.0//EN
CALSCALE:GREGORIAN
METHOD:PUBLISH
X-ORIGINAL-URL:https://www.tiptreeparishcouncil.gov.uk
X-WR-CALDESC:Events for Tiptree Parish Council
REFRESH-INTERVAL;VALUE=DURATION:PT1H
X-Robots-Tag:noindex
X-PUBLISHED-TTL:PT1H
BEGIN:VTIMEZONE
TZID:Europe/London
BEGIN:DAYLIGHT
TZOFFSETFROM:+0000
TZOFFSETTO:+0100
TZNAME:BST
DTSTART:20240331T010000
END:DAYLIGHT
BEGIN:STANDARD
TZOFFSETFROM:+0100
TZOFFSETTO:+0000
TZNAME:GMT
DTSTART:20241027T010000
END:STANDARD
BEGIN:DAYLIGHT
TZOFFSETFROM:+0000
TZOFFSETTO:+0100
TZNAME:BST
DTSTART:20250330T010000
END:DAYLIGHT
BEGIN:STANDARD
TZOFFSETFROM:+0100
TZOFFSETTO:+0000
TZNAME:GMT
DTSTART:20251026T010000
END:STANDARD
BEGIN:DAYLIGHT
TZOFFSETFROM:+0000
TZOFFSETTO:+0100
TZNAME:BST
DTSTART:20260329T010000
END:DAYLIGHT
BEGIN:STANDARD
TZOFFSETFROM:+0100
TZOFFSETTO:+0000
TZNAME:GMT
DTSTART:20261025T010000
END:STANDARD
BEGIN:DAYLIGHT
TZOFFSETFROM:+0000
TZOFFSETTO:+0100
TZNAME:BST
DTSTART:20270328T010000
END:DAYLIGHT
BEGIN:STANDARD
TZOFFSETFROM:+0100
TZOFFSETTO:+0000
TZNAME:GMT
DTSTART:20271031T010000
END:STANDARD
END:VTIMEZONE
BEGIN:VEVENT
DTSTART;TZID=Europe/London:20251216T190000
DTEND;TZID=Europe/London:20251216T203000
DTSTAMP:20260422T230946
CREATED:20250827T102849Z
LAST-MODIFIED:20251211T181559Z
UID:5819-1765911600-1765917000@www.tiptreeparishcouncil.gov.uk
SUMMARY:Community Committee Meeting
DESCRIPTION:Agenda for the community and indoor spaces committee
URL:https://www.tiptreeparishcouncil.gov.uk/calendar/community-committee-meeting-4/
LOCATION:Tiptree Community Centre – Meeting Room
END:VEVENT
BEGIN:VEVENT
DTSTART;TZID=Europe/London:20260113T184500
DTEND;TZID=Europe/London:20260113T201500
DTSTAMP:20260422T230946
CREATED:20251204T101106Z
LAST-MODIFIED:20260107T163658Z
UID:6423-1768329900-1768335300@www.tiptreeparishcouncil.gov.uk
SUMMARY:Full Council Committee Meeting
DESCRIPTION:Agenda for Full Council Meeting
URL:https://www.tiptreeparishcouncil.gov.uk/calendar/full-council-committee-meeting/
LOCATION:Tiptree Community Centre – The Small Hall
END:VEVENT
BEGIN:VEVENT
DTSTART;TZID=Europe/London:20260113T201500
DTEND;TZID=Europe/London:20260113T211500
DTSTAMP:20260422T230946
CREATED:20251204T103438Z
LAST-MODIFIED:20260107T163854Z
UID:6427-1768335300-1768338900@www.tiptreeparishcouncil.gov.uk
SUMMARY:Planning & Highways Committee Meeting
DESCRIPTION:Agenda for Planning and Highways meeting
URL:https://www.tiptreeparishcouncil.gov.uk/calendar/planning-highways-committee-meeting-2/
END:VEVENT
BEGIN:VEVENT
DTSTART;TZID=Europe/London:20260119T190000
DTEND;TZID=Europe/London:20260119T200000
DTSTAMP:20260422T230946
CREATED:20251204T103638Z
LAST-MODIFIED:20260112T163444Z
UID:6429-1768849200-1768852800@www.tiptreeparishcouncil.gov.uk
SUMMARY:Policy & Finance Committee Meeting
DESCRIPTION:Agenda for the policy and finance meeting
URL:https://www.tiptreeparishcouncil.gov.uk/calendar/policy-finance-committee-meeting/
LOCATION:Tiptree Community Centre – Meeting Room
END:VEVENT
BEGIN:VEVENT
DTSTART;TZID=Europe/London:20260120T190000
DTEND;TZID=Europe/London:20260120T200000
DTSTAMP:20260422T230946
CREATED:20251204T103747Z
LAST-MODIFIED:20260114T163207Z
UID:6431-1768935600-1768939200@www.tiptreeparishcouncil.gov.uk
SUMMARY:Amenities & Environment Committee Meeting
DESCRIPTION:Agenda for Amenities and Enviroment meeting
URL:https://www.tiptreeparishcouncil.gov.uk/calendar/amenities-environment-committee-meeting/
LOCATION:Tiptree Community Centre – Meeting Room
END:VEVENT
BEGIN:VEVENT
DTSTART;TZID=Europe/London:20260127T190000
DTEND;TZID=Europe/London:20260127T200000
DTSTAMP:20260422T230946
CREATED:20251204T103910Z
LAST-MODIFIED:20260122T184659Z
UID:6433-1769540400-1769544000@www.tiptreeparishcouncil.gov.uk
SUMMARY:Community & Indoor Spaces Committee Meeting
DESCRIPTION:Agenda for Community and indoor spaces 
URL:https://www.tiptreeparishcouncil.gov.uk/calendar/community-indoor-spaces-committee-meeting/
LOCATION:Tiptree Community Centre – Meeting Room
END:VEVENT
BEGIN:VEVENT
DTSTART;TZID=Europe/London:20260203T184500
DTEND;TZID=Europe/London:20260203T201500
DTSTAMP:20260422T230946
CREATED:20251204T104049Z
LAST-MODIFIED:20260127T170517Z
UID:6435-1770144300-1770149700@www.tiptreeparishcouncil.gov.uk
SUMMARY:Full Council Committee Meeting
DESCRIPTION:Agenda for Full council meeting
URL:https://www.tiptreeparishcouncil.gov.uk/calendar/full-council-committee-meeting-2/
LOCATION:Tiptree Community Centre – The Small Hall
END:VEVENT
BEGIN:VEVENT
DTSTART;TZID=Europe/London:20260203T201500
DTEND;TZID=Europe/London:20260203T211500
DTSTAMP:20260422T230946
CREATED:20251204T103248Z
LAST-MODIFIED:20260127T170607Z
UID:6425-1770149700-1770153300@www.tiptreeparishcouncil.gov.uk
SUMMARY:Planning & Highways Committee Meeting
DESCRIPTION:Agenda for Planning and highways meeting
URL:https://www.tiptreeparishcouncil.gov.uk/calendar/planning-highways-committee-meeting/
LOCATION:Tiptree Community Centre – The Small Hall
END:VEVENT
BEGIN:VEVENT
DTSTART;TZID=Europe/London:20260210T190000
DTEND;TZID=Europe/London:20260210T200000
DTSTAMP:20260422T230946
CREATED:20251204T104142Z
LAST-MODIFIED:20260204T165753Z
UID:6437-1770750000-1770753600@www.tiptreeparishcouncil.gov.uk
SUMMARY:Amenities & Environment Committee Meeting
DESCRIPTION:Amenites And Enviroment Agenda
URL:https://www.tiptreeparishcouncil.gov.uk/calendar/amenities-environment-committee-meeting-2/
LOCATION:Tiptree Community Centre – Meeting Room
END:VEVENT
BEGIN:VEVENT
DTSTART;TZID=Europe/London:20260225T130000
DTEND;TZID=Europe/London:20260225T150000
DTSTAMP:20260422T230946
CREATED:20260209T141418Z
LAST-MODIFIED:20260209T141418Z
UID:6655-1772024400-1772031600@www.tiptreeparishcouncil.gov.uk
SUMMARY:Staffing Sub-Committee
DESCRIPTION:Staffing sub committee agenda
URL:https://www.tiptreeparishcouncil.gov.uk/calendar/staffing-sub-committee-3/
LOCATION:Community Hall\, Caxton Close\, Tiptree
ORGANIZER;CN="Tiptree Parish Council":MAILTO:clerk@tiptreeparishcouncil.gov.uk
END:VEVENT
BEGIN:VEVENT
DTSTART;TZID=Europe/London:20260303T184500
DTEND;TZID=Europe/London:20260303T201500
DTSTAMP:20260422T230946
CREATED:20260109T103838Z
LAST-MODIFIED:20260302T122643Z
UID:6508-1772563500-1772568900@www.tiptreeparishcouncil.gov.uk
SUMMARY:Full Council meeting
DESCRIPTION:Agenda for the Full council meeting
URL:https://www.tiptreeparishcouncil.gov.uk/calendar/full-council-meeting-6/
LOCATION:Tiptree Community Centre – The Small Hall
ORGANIZER;CN="Tiptree Parish Council":MAILTO:clerk@tiptreeparishcouncil.gov.uk
END:VEVENT
BEGIN:VEVENT
DTSTART;TZID=Europe/London:20260303T201500
DTEND;TZID=Europe/London:20260303T201500
DTSTAMP:20260422T230946
CREATED:20260109T104023Z
LAST-MODIFIED:20260225T153744Z
UID:6511-1772568900-1772568900@www.tiptreeparishcouncil.gov.uk
SUMMARY:Planning & Highways Committee Meeting
DESCRIPTION:Planning & Highways Committee Agenda
URL:https://www.tiptreeparishcouncil.gov.uk/calendar/planning-highways-committee-meeting-3/
LOCATION:Tiptree Community Centre – The Small Hall
ORGANIZER;CN="Tiptree Parish Council":MAILTO:clerk@tiptreeparishcouncil.gov.uk
END:VEVENT
BEGIN:VEVENT
DTSTART;TZID=Europe/London:20260305T190000
DTEND;TZID=Europe/London:20260305T213000
DTSTAMP:20260422T230946
CREATED:20260218T170359Z
LAST-MODIFIED:20260218T170359Z
UID:6664-1772737200-1772746200@www.tiptreeparishcouncil.gov.uk
SUMMARY:Community Youth Hub Sub Committee
DESCRIPTION:Agenda for the committee meeting
URL:https://www.tiptreeparishcouncil.gov.uk/calendar/community-youth-hub-sub-committee/
LOCATION:Tiptree Community Centre – Meeting Room
ORGANIZER;CN="Tiptree Parish Council":MAILTO:clerk@tiptreeparishcouncil.gov.uk
END:VEVENT
BEGIN:VEVENT
DTSTART;TZID=Europe/London:20260317T190000
DTEND;TZID=Europe/London:20260317T213000
DTSTAMP:20260422T230946
CREATED:20260109T105226Z
LAST-MODIFIED:20260311T183636Z
UID:6533-1773774000-1773783000@www.tiptreeparishcouncil.gov.uk
SUMMARY:Community & Indoor Spaces Committee Meeting
DESCRIPTION:Agenda for the community meeting
URL:https://www.tiptreeparishcouncil.gov.uk/calendar/community-indoor-spaces-committee-meeting-3/
LOCATION:Tiptree Community Centre – Meeting Room
ORGANIZER;CN="Tiptree Parish Council":MAILTO:clerk@tiptreeparishcouncil.gov.uk
END:VEVENT
BEGIN:VEVENT
DTSTART;TZID=Europe/London:20260324T190000
DTEND;TZID=Europe/London:20260324T213000
DTSTAMP:20260422T230946
CREATED:20260109T105420Z
LAST-MODIFIED:20260309T161620Z
UID:6539-1774378800-1774387800@www.tiptreeparishcouncil.gov.uk
SUMMARY:Policy & Finance Committee Meeting
DESCRIPTION:Agenda for the Policy and Finance committee
URL:https://www.tiptreeparishcouncil.gov.uk/calendar/policy-finance-committee-meeting-2/
LOCATION:Tiptree Community Centre – Meeting Room
ORGANIZER;CN="Tiptree Parish Council":MAILTO:clerk@tiptreeparishcouncil.gov.uk
END:VEVENT
BEGIN:VEVENT
DTSTART;TZID=Europe/London:20260331T190000
DTEND;TZID=Europe/London:20260331T213000
DTSTAMP:20260422T230946
CREATED:20260309T121445Z
LAST-MODIFIED:20260309T121456Z
UID:6692-1774983600-1774992600@www.tiptreeparishcouncil.gov.uk
SUMMARY:Amenities and Enviroment committee meeting
DESCRIPTION:Agenda for the Amenities and Enviroment meeting
URL:https://www.tiptreeparishcouncil.gov.uk/calendar/amenities-and-enviroment-committee-meeting/
LOCATION:Tiptree Community Centre – Meeting Room
ORGANIZER;CN="Tiptree Parish Council":MAILTO:clerk@tiptreeparishcouncil.gov.uk
END:VEVENT
BEGIN:VEVENT
DTSTART;TZID=Europe/London:20260407T181500
DTEND;TZID=Europe/London:20260407T201500
DTSTAMP:20260422T230946
CREATED:20260109T104455Z
LAST-MODIFIED:20260330T083500Z
UID:6519-1775585700-1775592900@www.tiptreeparishcouncil.gov.uk
SUMMARY:Full Council meeting
DESCRIPTION:Agenda for Full Council meeting.
URL:https://www.tiptreeparishcouncil.gov.uk/calendar/full-council-meeting-7/
LOCATION:Tiptree Community Centre – The Small Hall
ORGANIZER;CN="Tiptree Parish Council":MAILTO:clerk@tiptreeparishcouncil.gov.uk
END:VEVENT
BEGIN:VEVENT
DTSTART;TZID=Europe/London:20260407T201500
DTEND;TZID=Europe/London:20260407T221500
DTSTAMP:20260422T230946
CREATED:20260109T104112Z
LAST-MODIFIED:20260330T094252Z
UID:6513-1775592900-1775600100@www.tiptreeparishcouncil.gov.uk
SUMMARY:Planning & Highways Committee Meeting
DESCRIPTION:Planning & Highways Agenda
URL:https://www.tiptreeparishcouncil.gov.uk/calendar/planning-highways-committee-meeting-4/
LOCATION:Tiptree Community Centre – The Small Hall
ORGANIZER;CN="Tiptree Parish Council":MAILTO:clerk@tiptreeparishcouncil.gov.uk
END:VEVENT
BEGIN:VEVENT
DTSTART;TZID=Europe/London:20260414T190000
DTEND;TZID=Europe/London:20260414T213000
DTSTAMP:20260422T230946
CREATED:20260109T104959Z
LAST-MODIFIED:20260408T162422Z
UID:6527-1776193200-1776202200@www.tiptreeparishcouncil.gov.uk
SUMMARY:Amenities & Environment Committee Meeting
DESCRIPTION:Agenda for the Amenities meeting
URL:https://www.tiptreeparishcouncil.gov.uk/calendar/amenities-environment-committee-meeting-4/
LOCATION:Tiptree Community Centre – Meeting Room
ORGANIZER;CN="Tiptree Parish Council":MAILTO:clerk@tiptreeparishcouncil.gov.uk
END:VEVENT
BEGIN:VEVENT
DTSTART;TZID=Europe/London:20260416T190000
DTEND;TZID=Europe/London:20260416T213000
DTSTAMP:20260422T230946
CREATED:20260409T094740Z
LAST-MODIFIED:20260409T094740Z
UID:6753-1776366000-1776375000@www.tiptreeparishcouncil.gov.uk
SUMMARY:Community Youth Hub Committee meeting
DESCRIPTION:Agenda for The Community Youth Hub 
URL:https://www.tiptreeparishcouncil.gov.uk/calendar/community-youth-hub-committee-meeting/
LOCATION:Community Hall\, Caxton Close\, Tiptree
ORGANIZER;CN="Tiptree Parish Council":MAILTO:clerk@tiptreeparishcouncil.gov.uk
END:VEVENT
BEGIN:VEVENT
DTSTART;TZID=Europe/London:20260421T190000
DTEND;TZID=Europe/London:20260421T213000
DTSTAMP:20260422T230946
CREATED:20260109T105253Z
LAST-MODIFIED:20260109T105253Z
UID:6535-1776798000-1776807000@www.tiptreeparishcouncil.gov.uk
SUMMARY:Community & Indoor Spaces Committee Meeting
DESCRIPTION:
URL:https://www.tiptreeparishcouncil.gov.uk/calendar/community-indoor-spaces-committee-meeting-4/
LOCATION:Tiptree Community Centre – Meeting Room
ORGANIZER;CN="Tiptree Parish Council":MAILTO:clerk@tiptreeparishcouncil.gov.uk
END:VEVENT
BEGIN:VEVENT
DTSTART;TZID=Europe/London:20260428T183000
DTEND;TZID=Europe/London:20260428T230000
DTSTAMP:20260422T230946
CREATED:20260109T105547Z
LAST-MODIFIED:20260415T095244Z
UID:6543-1777401000-1777417200@www.tiptreeparishcouncil.gov.uk
SUMMARY:Annual Parish Meeting
DESCRIPTION:Agenda for the Annual Parish Meeting
URL:https://www.tiptreeparishcouncil.gov.uk/calendar/annual-parish-meeting/
LOCATION:Tiptree Community Centre
ORGANIZER;CN="Tiptree Parish Council":MAILTO:clerk@tiptreeparishcouncil.gov.uk
END:VEVENT
BEGIN:VEVENT
DTSTART;TZID=Europe/London:20260505T184500
DTEND;TZID=Europe/London:20260505T201500
DTSTAMP:20260422T230946
CREATED:20260109T104637Z
LAST-MODIFIED:20260109T104637Z
UID:6521-1778006700-1778012100@www.tiptreeparishcouncil.gov.uk
SUMMARY:Annual Meeting of the Parish Council
DESCRIPTION:
URL:https://www.tiptreeparishcouncil.gov.uk/calendar/annual-meeting-of-the-parish-council/
LOCATION:Tiptree Community Centre – The Small Hall
ORGANIZER;CN="Tiptree Parish Council":MAILTO:clerk@tiptreeparishcouncil.gov.uk
END:VEVENT
BEGIN:VEVENT
DTSTART;TZID=Europe/London:20260505T201500
DTEND;TZID=Europe/London:20260505T221500
DTSTAMP:20260422T230946
CREATED:20260109T104234Z
LAST-MODIFIED:20260109T104234Z
UID:6515-1778012100-1778019300@www.tiptreeparishcouncil.gov.uk
SUMMARY:Planning & Highways Committee Meeting
DESCRIPTION:
URL:https://www.tiptreeparishcouncil.gov.uk/calendar/planning-highways-committee-meeting-5/
LOCATION:Tiptree Community Centre – The Small Hall
END:VEVENT
BEGIN:VEVENT
DTSTART;TZID=Europe/London:20260512T190000
DTEND;TZID=Europe/London:20260512T190000
DTSTAMP:20260422T230946
CREATED:20260109T105037Z
LAST-MODIFIED:20260109T105037Z
UID:6529-1778612400-1778612400@www.tiptreeparishcouncil.gov.uk
SUMMARY:Amenities & Environment Committee Meeting
DESCRIPTION:
URL:https://www.tiptreeparishcouncil.gov.uk/calendar/amenities-environment-committee-meeting-5/
LOCATION:Tiptree Community Centre – Meeting Room
ORGANIZER;CN="Tiptree Parish Council":MAILTO:clerk@tiptreeparishcouncil.gov.uk
END:VEVENT
BEGIN:VEVENT
DTSTART;TZID=Europe/London:20260526T190000
DTEND;TZID=Europe/London:20260526T213000
DTSTAMP:20260422T230946
CREATED:20260109T105452Z
LAST-MODIFIED:20260109T105452Z
UID:6541-1779822000-1779831000@www.tiptreeparishcouncil.gov.uk
SUMMARY:Policy & Finance Committee Meeting
DESCRIPTION:
URL:https://www.tiptreeparishcouncil.gov.uk/calendar/policy-finance-committee-meeting-3/
LOCATION:Tiptree Community Centre – Meeting Room
ORGANIZER;CN="Tiptree Parish Council":MAILTO:clerk@tiptreeparishcouncil.gov.uk
END:VEVENT
BEGIN:VEVENT
DTSTART;TZID=Europe/London:20260602T184500
DTEND;TZID=Europe/London:20260602T201500
DTSTAMP:20260422T230946
CREATED:20260109T104718Z
LAST-MODIFIED:20260109T104718Z
UID:6523-1780425900-1780431300@www.tiptreeparishcouncil.gov.uk
SUMMARY:Full Council meeting
DESCRIPTION:
URL:https://www.tiptreeparishcouncil.gov.uk/calendar/full-council-meeting-8/
LOCATION:Tiptree Community Centre – The Small Hall
ORGANIZER;CN="Tiptree Parish Council":MAILTO:clerk@tiptreeparishcouncil.gov.uk
END:VEVENT
BEGIN:VEVENT
DTSTART;TZID=Europe/London:20260602T201500
DTEND;TZID=Europe/London:20260602T221500
DTSTAMP:20260422T230946
CREATED:20260109T104325Z
LAST-MODIFIED:20260109T104325Z
UID:6517-1780431300-1780438500@www.tiptreeparishcouncil.gov.uk
SUMMARY:Planning & Highways Committee Meeting
DESCRIPTION:
URL:https://www.tiptreeparishcouncil.gov.uk/calendar/planning-highways-committee-meeting-6/
LOCATION:Tiptree Community Centre – The Small Hall
ORGANIZER;CN="Tiptree Parish Council":MAILTO:clerk@tiptreeparishcouncil.gov.uk
END:VEVENT
BEGIN:VEVENT
DTSTART;TZID=Europe/London:20260609T190000
DTEND;TZID=Europe/London:20260609T213000
DTSTAMP:20260422T230946
CREATED:20260109T105112Z
LAST-MODIFIED:20260109T105112Z
UID:6531-1781031600-1781040600@www.tiptreeparishcouncil.gov.uk
SUMMARY:Amenities & Environment Committee Meeting
DESCRIPTION:
URL:https://www.tiptreeparishcouncil.gov.uk/calendar/amenities-environment-committee-meeting-6/
LOCATION:Tiptree Community Centre – Meeting Room
ORGANIZER;CN="Tiptree Parish Council":MAILTO:clerk@tiptreeparishcouncil.gov.uk
END:VEVENT
BEGIN:VEVENT
DTSTART;TZID=Europe/London:20260616T190000
DTEND;TZID=Europe/London:20260616T213000
DTSTAMP:20260422T230946
CREATED:20260109T105329Z
LAST-MODIFIED:20260109T105329Z
UID:6537-1781636400-1781645400@www.tiptreeparishcouncil.gov.uk
SUMMARY:Community & Indoor Spaces Committee Meeting
DESCRIPTION:
URL:https://www.tiptreeparishcouncil.gov.uk/calendar/community-indoor-spaces-committee-meeting-5/
LOCATION:Tiptree Community Centre – Meeting Room
ORGANIZER;CN="Tiptree Parish Council":MAILTO:clerk@tiptreeparishcouncil.gov.uk
END:VEVENT
END:VCALENDAR