BEGIN:VCALENDAR
VERSION:2.0
PRODID:-//Tiptree Parish Council - ECPv6.15.20//NONSGML v1.0//EN
CALSCALE:GREGORIAN
METHOD:PUBLISH
X-WR-CALNAME:Tiptree Parish Council
X-ORIGINAL-URL:https://www.tiptreeparishcouncil.gov.uk
X-WR-CALDESC:Events for Tiptree Parish Council
REFRESH-INTERVAL;VALUE=DURATION:PT1H
X-Robots-Tag:noindex
X-PUBLISHED-TTL:PT1H
BEGIN:VTIMEZONE
TZID:Europe/London
BEGIN:DAYLIGHT
TZOFFSETFROM:+0000
TZOFFSETTO:+0100
TZNAME:BST
DTSTART:20240331T010000
END:DAYLIGHT
BEGIN:STANDARD
TZOFFSETFROM:+0100
TZOFFSETTO:+0000
TZNAME:GMT
DTSTART:20241027T010000
END:STANDARD
BEGIN:DAYLIGHT
TZOFFSETFROM:+0000
TZOFFSETTO:+0100
TZNAME:BST
DTSTART:20250330T010000
END:DAYLIGHT
BEGIN:STANDARD
TZOFFSETFROM:+0100
TZOFFSETTO:+0000
TZNAME:GMT
DTSTART:20251026T010000
END:STANDARD
BEGIN:DAYLIGHT
TZOFFSETFROM:+0000
TZOFFSETTO:+0100
TZNAME:BST
DTSTART:20260329T010000
END:DAYLIGHT
BEGIN:STANDARD
TZOFFSETFROM:+0100
TZOFFSETTO:+0000
TZNAME:GMT
DTSTART:20261025T010000
END:STANDARD
END:VTIMEZONE
BEGIN:VEVENT
DTSTART;TZID=Europe/London:20250916T190000
DTEND;TZID=Europe/London:20250916T203000
DTSTAMP:20260423T072155
CREATED:20250827T095059Z
LAST-MODIFIED:20250922T123913Z
UID:5790-1758049200-1758054600@www.tiptreeparishcouncil.gov.uk
SUMMARY:Community Committee Meeting
DESCRIPTION:
URL:https://www.tiptreeparishcouncil.gov.uk/calendar/community-committee-meeting/
LOCATION:Tiptree Community Centre – Meeting Room
END:VEVENT
BEGIN:VEVENT
DTSTART;TZID=Europe/London:20250909T190000
DTEND;TZID=Europe/London:20250909T203000
DTSTAMP:20260423T072155
CREATED:20250827T094920Z
LAST-MODIFIED:20250922T123853Z
UID:5787-1757444400-1757449800@www.tiptreeparishcouncil.gov.uk
SUMMARY:Amenities and Environment Committee Meeting
DESCRIPTION:
URL:https://www.tiptreeparishcouncil.gov.uk/calendar/amenities-and-environment-committee-meeting/
LOCATION:Tiptree Community Centre – Meeting Room
END:VEVENT
BEGIN:VEVENT
DTSTART;TZID=Europe/London:20250902T193000
DTEND;TZID=Europe/London:20250902T210000
DTSTAMP:20260423T072155
CREATED:20250826T220817Z
LAST-MODIFIED:20250922T123823Z
UID:5775-1756841400-1756846800@www.tiptreeparishcouncil.gov.uk
SUMMARY:Full Council Meeting
DESCRIPTION:
URL:https://www.tiptreeparishcouncil.gov.uk/calendar/full-council-meeting/
LOCATION:Tiptree Community Centre – The Small Hall
END:VEVENT
BEGIN:VEVENT
DTSTART;TZID=Europe/London:20250902T184500
DTEND;TZID=Europe/London:20250902T193000
DTSTAMP:20260423T072155
CREATED:20250827T094718Z
LAST-MODIFIED:20250922T123838Z
UID:5785-1756838700-1756841400@www.tiptreeparishcouncil.gov.uk
SUMMARY:Planning and Highways Meeting
DESCRIPTION:  \n 
URL:https://www.tiptreeparishcouncil.gov.uk/calendar/planning-and-highways-meeting/
LOCATION:Tiptree Community Centre – The Small Hall
END:VEVENT
END:VCALENDAR