BEGIN:VCALENDAR
VERSION:2.0
PRODID:-//Tiptree Parish Council - ECPv6.15.20//NONSGML v1.0//EN
CALSCALE:GREGORIAN
METHOD:PUBLISH
X-WR-CALNAME:Tiptree Parish Council
X-ORIGINAL-URL:https://www.tiptreeparishcouncil.gov.uk
X-WR-CALDESC:Events for Tiptree Parish Council
REFRESH-INTERVAL;VALUE=DURATION:PT1H
X-Robots-Tag:noindex
X-PUBLISHED-TTL:PT1H
BEGIN:VTIMEZONE
TZID:Europe/London
BEGIN:DAYLIGHT
TZOFFSETFROM:+0000
TZOFFSETTO:+0100
TZNAME:BST
DTSTART:20240331T010000
END:DAYLIGHT
BEGIN:STANDARD
TZOFFSETFROM:+0100
TZOFFSETTO:+0000
TZNAME:GMT
DTSTART:20241027T010000
END:STANDARD
BEGIN:DAYLIGHT
TZOFFSETFROM:+0000
TZOFFSETTO:+0100
TZNAME:BST
DTSTART:20250330T010000
END:DAYLIGHT
BEGIN:STANDARD
TZOFFSETFROM:+0100
TZOFFSETTO:+0000
TZNAME:GMT
DTSTART:20251026T010000
END:STANDARD
BEGIN:DAYLIGHT
TZOFFSETFROM:+0000
TZOFFSETTO:+0100
TZNAME:BST
DTSTART:20260329T010000
END:DAYLIGHT
BEGIN:STANDARD
TZOFFSETFROM:+0100
TZOFFSETTO:+0000
TZNAME:GMT
DTSTART:20261025T010000
END:STANDARD
END:VTIMEZONE
BEGIN:VEVENT
DTSTART;TZID=Europe/London:20251216T190000
DTEND;TZID=Europe/London:20251216T203000
DTSTAMP:20260422T234319
CREATED:20250827T102849Z
LAST-MODIFIED:20251211T181559Z
UID:5819-1765911600-1765917000@www.tiptreeparishcouncil.gov.uk
SUMMARY:Community Committee Meeting
DESCRIPTION:Agenda for the community and indoor spaces committee
URL:https://www.tiptreeparishcouncil.gov.uk/calendar/community-committee-meeting-4/
LOCATION:Tiptree Community Centre – Meeting Room
END:VEVENT
BEGIN:VEVENT
DTSTART;TZID=Europe/London:20251211T190000
DTEND;TZID=Europe/London:20251211T213000
DTSTAMP:20260422T234319
CREATED:20251208T101631Z
LAST-MODIFIED:20251208T101631Z
UID:6441-1765479600-1765488600@www.tiptreeparishcouncil.gov.uk
SUMMARY:Staffing Sub-committee
DESCRIPTION:Agenda for the staffing sub committee
URL:https://www.tiptreeparishcouncil.gov.uk/calendar/staffing-sub-committee-2/
LOCATION:Community Hall\, Caxton Close\, Tiptree
END:VEVENT
BEGIN:VEVENT
DTSTART;TZID=Europe/London:20251209T190000
DTEND;TZID=Europe/London:20251209T203000
DTSTAMP:20260422T234319
CREATED:20250827T102534Z
LAST-MODIFIED:20251204T093025Z
UID:5817-1765306800-1765312200@www.tiptreeparishcouncil.gov.uk
SUMMARY:Amenities and Environment Meeting
DESCRIPTION:Agenda for the Amenites and Enviroment meeting.
URL:https://www.tiptreeparishcouncil.gov.uk/calendar/amenities-and-environment-meeting/
LOCATION:Tiptree Community Centre – Meeting Room
END:VEVENT
BEGIN:VEVENT
DTSTART;TZID=Europe/London:20251202T193000
DTEND;TZID=Europe/London:20251202T210000
DTSTAMP:20260422T234319
CREATED:20250827T102431Z
LAST-MODIFIED:20251126T160454Z
UID:5815-1764703800-1764709200@www.tiptreeparishcouncil.gov.uk
SUMMARY:Full Council Meeting
DESCRIPTION:Agenda for the Full Council meeting
URL:https://www.tiptreeparishcouncil.gov.uk/calendar/full-council-meeting-5/
LOCATION:Tiptree Community Centre – The Small Hall
END:VEVENT
BEGIN:VEVENT
DTSTART;TZID=Europe/London:20251202T184500
DTEND;TZID=Europe/London:20251202T193000
DTSTAMP:20260422T234319
CREATED:20250827T102226Z
LAST-MODIFIED:20251126T152404Z
UID:5813-1764701100-1764703800@www.tiptreeparishcouncil.gov.uk
SUMMARY:Planning and Highways Meeting
DESCRIPTION:Planning & Highways Agenda
URL:https://www.tiptreeparishcouncil.gov.uk/calendar/planning-and-highways-meeting-4/
LOCATION:Tiptree Community Centre – The Small Hall
END:VEVENT
BEGIN:VEVENT
DTSTART;TZID=Europe/London:20251125T110000
DTEND;TZID=Europe/London:20251125T123000
DTSTAMP:20260422T234319
CREATED:20250827T101902Z
LAST-MODIFIED:20251118T165003Z
UID:5811-1764068400-1764073800@www.tiptreeparishcouncil.gov.uk
SUMMARY:Policy and Finance Meeting
DESCRIPTION:Agenda for the Policy and Finance committee
URL:https://www.tiptreeparishcouncil.gov.uk/calendar/policy-and-finance-meeting-2/
LOCATION:Tiptree Community Centre – Meeting Room
END:VEVENT
BEGIN:VEVENT
DTSTART;TZID=Europe/London:20251124T190000
DTEND;TZID=Europe/London:20251124T213000
DTSTAMP:20260422T234319
CREATED:20251124T131033Z
LAST-MODIFIED:20251124T131033Z
UID:6398-1764010800-1764019800@www.tiptreeparishcouncil.gov.uk
SUMMARY:Staffing Sub Committee
DESCRIPTION:Agenda for the Staffing Sub committee
URL:https://www.tiptreeparishcouncil.gov.uk/calendar/staffing-sub-committee/
LOCATION:Community Hall\, Caxton Close\, Tiptree
END:VEVENT
BEGIN:VEVENT
DTSTART;TZID=Europe/London:20251118T190000
DTEND;TZID=Europe/London:20251118T203000
DTSTAMP:20260422T234319
CREATED:20250827T101302Z
LAST-MODIFIED:20251112T144528Z
UID:5809-1763492400-1763497800@www.tiptreeparishcouncil.gov.uk
SUMMARY:Community Committee Meeting
DESCRIPTION:Agenda for Comminity and indoor spaces committee meeting
URL:https://www.tiptreeparishcouncil.gov.uk/calendar/community-committee-meeting-3/
LOCATION:Tiptree Community Centre – Meeting Room
END:VEVENT
BEGIN:VEVENT
DTSTART;TZID=Europe/London:20251113T190000
DTEND;TZID=Europe/London:20251113T210000
DTSTAMP:20260422T234319
CREATED:20251105T193051Z
LAST-MODIFIED:20251105T193051Z
UID:6367-1763060400-1763067600@www.tiptreeparishcouncil.gov.uk
SUMMARY:Community Youth Hub Sub committy
DESCRIPTION:Agenda for the commttiee meeting
URL:https://www.tiptreeparishcouncil.gov.uk/calendar/community-youth-hub-sub-committy/
LOCATION:Community Hall\, Caxton Close\, Tiptree
END:VEVENT
BEGIN:VEVENT
DTSTART;TZID=Europe/London:20251111T190000
DTEND;TZID=Europe/London:20251111T203000
DTSTAMP:20260422T234319
CREATED:20250827T101132Z
LAST-MODIFIED:20251105T193236Z
UID:5807-1762887600-1762893000@www.tiptreeparishcouncil.gov.uk
SUMMARY:Amenities and Environment Committee Meeting
DESCRIPTION:Meeting Adenda for the committee
URL:https://www.tiptreeparishcouncil.gov.uk/calendar/amenities-and-environment-committee-meeting-2/
LOCATION:Tiptree Community Centre – Meeting Room
END:VEVENT
BEGIN:VEVENT
DTSTART;TZID=Europe/London:20251104T193000
DTEND;TZID=Europe/London:20251104T210000
DTSTAMP:20260422T234319
CREATED:20250827T101028Z
LAST-MODIFIED:20251029T151138Z
UID:5805-1762284600-1762290000@www.tiptreeparishcouncil.gov.uk
SUMMARY:Full Council Meeting
DESCRIPTION:Full council meetings agenda
URL:https://www.tiptreeparishcouncil.gov.uk/calendar/full-council-meeting-4/
LOCATION:Tiptree Community Centre – The Small Hall
END:VEVENT
BEGIN:VEVENT
DTSTART;TZID=Europe/London:20251104T184500
DTEND;TZID=Europe/London:20251104T193000
DTSTAMP:20260422T234319
CREATED:20250827T100801Z
LAST-MODIFIED:20251028T195720Z
UID:5803-1762281900-1762284600@www.tiptreeparishcouncil.gov.uk
SUMMARY:Planning and Highways Meeting
DESCRIPTION:Planning and Highways Agenda
URL:https://www.tiptreeparishcouncil.gov.uk/calendar/planning-and-highways-meeting-3/
LOCATION:Tiptree Community Centre – The Small Hall
END:VEVENT
BEGIN:VEVENT
DTSTART;TZID=Europe/London:20251021T190000
DTEND;TZID=Europe/London:20251021T210000
DTSTAMP:20260422T234319
CREATED:20250827T100417Z
LAST-MODIFIED:20251015T083837Z
UID:5801-1761073200-1761080400@www.tiptreeparishcouncil.gov.uk
SUMMARY:Community Committee Meeting
DESCRIPTION:Agenda for the community and indoor spaces Committee
URL:https://www.tiptreeparishcouncil.gov.uk/calendar/community-committee-meeting-2/
LOCATION:Tiptree Community Centre – Meeting Room
END:VEVENT
BEGIN:VEVENT
DTSTART;TZID=Europe/London:20251014T190000
DTEND;TZID=Europe/London:20251014T210000
DTSTAMP:20260422T234319
CREATED:20250827T095921Z
LAST-MODIFIED:20251008T145132Z
UID:5796-1760468400-1760475600@www.tiptreeparishcouncil.gov.uk
SUMMARY:Amenities and Environment Committee Meeting
DESCRIPTION:Agenda for the Ameneties and Enviroment committee
URL:https://www.tiptreeparishcouncil.gov.uk/calendar/full-council-meeting-2/
LOCATION:Tiptree Community Centre – Meeting Room
END:VEVENT
BEGIN:VEVENT
DTSTART;TZID=Europe/London:20251007T193000
DTEND;TZID=Europe/London:20251007T210000
DTSTAMP:20260422T234319
CREATED:20250827T100251Z
LAST-MODIFIED:20250929T124905Z
UID:5799-1759865400-1759870800@www.tiptreeparishcouncil.gov.uk
SUMMARY:Full Council Meeting
DESCRIPTION:Agenda for Full council meeting
URL:https://www.tiptreeparishcouncil.gov.uk/calendar/full-council-meeting-3/
LOCATION:Tiptree Community Centre – The Small Hall
END:VEVENT
BEGIN:VEVENT
DTSTART;TZID=Europe/London:20251007T184500
DTEND;TZID=Europe/London:20251007T193000
DTSTAMP:20260422T234319
CREATED:20250827T095531Z
LAST-MODIFIED:20251001T145141Z
UID:5794-1759862700-1759865400@www.tiptreeparishcouncil.gov.uk
SUMMARY:Planning and Highways Meeting
DESCRIPTION:Planning & Highways Agenda
URL:https://www.tiptreeparishcouncil.gov.uk/calendar/planning-and-highways-meeting-2/
LOCATION:Tiptree Community Centre – The Small Hall
END:VEVENT
BEGIN:VEVENT
DTSTART;TZID=Europe/London:20250930T190000
DTEND;TZID=Europe/London:20250930T200000
DTSTAMP:20260422T234319
CREATED:20250924T145338Z
LAST-MODIFIED:20250924T145436Z
UID:6171-1759258800-1759262400@www.tiptreeparishcouncil.gov.uk
SUMMARY:Extra Ordinary Amenities & Enviroment meeting
DESCRIPTION:Agenda for the Extra ordinary meeting
URL:https://www.tiptreeparishcouncil.gov.uk/calendar/extra-ordinary-amenities-enviroment-meeting/
LOCATION:Community Hall\, Caxton Close\, Tiptree
ORGANIZER;CN="Tiptree Parish Council":MAILTO:clerk@tiptreeparishcouncil.gov.uk
END:VEVENT
BEGIN:VEVENT
DTSTART;TZID=Europe/London:20250925T190000
DTEND;TZID=Europe/London:20250925T193000
DTSTAMP:20260422T234319
CREATED:20250919T091051Z
LAST-MODIFIED:20250919T091550Z
UID:6153-1758826800-1758828600@www.tiptreeparishcouncil.gov.uk
SUMMARY:Extraordinary Full Council Meeting
DESCRIPTION:Agenda for Exraordinary Full council meeting
URL:https://www.tiptreeparishcouncil.gov.uk/calendar/extraordinary-full-council-meeting/
LOCATION:Community Hall\, Caxton Close\, Tiptree
ORGANIZER;CN="Tiptree Parish Council":MAILTO:clerk@tiptreeparishcouncil.gov.uk
END:VEVENT
BEGIN:VEVENT
DTSTART;TZID=Europe/London:20250923T110000
DTEND;TZID=Europe/London:20250923T123000
DTSTAMP:20260422T234319
CREATED:20250827T095311Z
LAST-MODIFIED:20250917T141108Z
UID:5792-1758625200-1758630600@www.tiptreeparishcouncil.gov.uk
SUMMARY:Policy and Finance Meeting
DESCRIPTION:Agenda for the Policy and finance committee
URL:https://www.tiptreeparishcouncil.gov.uk/calendar/policy-and-finance-meeting/
LOCATION:Tiptree Community Centre – Meeting Room
END:VEVENT
BEGIN:VEVENT
DTSTART;TZID=Europe/London:20250917T190000
DTEND;TZID=Europe/London:20250917T203000
DTSTAMP:20260422T234319
CREATED:20250827T112250Z
LAST-MODIFIED:20250922T123924Z
UID:5826-1758135600-1758141000@www.tiptreeparishcouncil.gov.uk
SUMMARY:Community Youth Hub Sub-Committee Meeting
DESCRIPTION:
URL:https://www.tiptreeparishcouncil.gov.uk/calendar/community-youth-hub-sub-committee-meeting/
LOCATION:Tiptree Community Centre – The Small Hall
END:VEVENT
BEGIN:VEVENT
DTSTART;TZID=Europe/London:20250916T190000
DTEND;TZID=Europe/London:20250916T203000
DTSTAMP:20260422T234319
CREATED:20250827T095059Z
LAST-MODIFIED:20250922T123913Z
UID:5790-1758049200-1758054600@www.tiptreeparishcouncil.gov.uk
SUMMARY:Community Committee Meeting
DESCRIPTION:
URL:https://www.tiptreeparishcouncil.gov.uk/calendar/community-committee-meeting/
LOCATION:Tiptree Community Centre – Meeting Room
END:VEVENT
BEGIN:VEVENT
DTSTART;TZID=Europe/London:20250909T190000
DTEND;TZID=Europe/London:20250909T203000
DTSTAMP:20260422T234319
CREATED:20250827T094920Z
LAST-MODIFIED:20250922T123853Z
UID:5787-1757444400-1757449800@www.tiptreeparishcouncil.gov.uk
SUMMARY:Amenities and Environment Committee Meeting
DESCRIPTION:
URL:https://www.tiptreeparishcouncil.gov.uk/calendar/amenities-and-environment-committee-meeting/
LOCATION:Tiptree Community Centre – Meeting Room
END:VEVENT
BEGIN:VEVENT
DTSTART;TZID=Europe/London:20250902T193000
DTEND;TZID=Europe/London:20250902T210000
DTSTAMP:20260422T234319
CREATED:20250826T220817Z
LAST-MODIFIED:20250922T123823Z
UID:5775-1756841400-1756846800@www.tiptreeparishcouncil.gov.uk
SUMMARY:Full Council Meeting
DESCRIPTION:
URL:https://www.tiptreeparishcouncil.gov.uk/calendar/full-council-meeting/
LOCATION:Tiptree Community Centre – The Small Hall
END:VEVENT
BEGIN:VEVENT
DTSTART;TZID=Europe/London:20250902T184500
DTEND;TZID=Europe/London:20250902T193000
DTSTAMP:20260422T234319
CREATED:20250827T094718Z
LAST-MODIFIED:20250922T123838Z
UID:5785-1756838700-1756841400@www.tiptreeparishcouncil.gov.uk
SUMMARY:Planning and Highways Meeting
DESCRIPTION:  \n 
URL:https://www.tiptreeparishcouncil.gov.uk/calendar/planning-and-highways-meeting/
LOCATION:Tiptree Community Centre – The Small Hall
END:VEVENT
END:VCALENDAR