BEGIN:VCALENDAR
VERSION:2.0
PRODID:-//Tiptree Parish Council - ECPv6.15.20//NONSGML v1.0//EN
CALSCALE:GREGORIAN
METHOD:PUBLISH
X-ORIGINAL-URL:https://www.tiptreeparishcouncil.gov.uk
X-WR-CALDESC:Events for Tiptree Parish Council
REFRESH-INTERVAL;VALUE=DURATION:PT1H
X-Robots-Tag:noindex
X-PUBLISHED-TTL:PT1H
BEGIN:VTIMEZONE
TZID:Europe/London
BEGIN:DAYLIGHT
TZOFFSETFROM:+0000
TZOFFSETTO:+0100
TZNAME:BST
DTSTART:20250330T010000
END:DAYLIGHT
BEGIN:STANDARD
TZOFFSETFROM:+0100
TZOFFSETTO:+0000
TZNAME:GMT
DTSTART:20251026T010000
END:STANDARD
BEGIN:DAYLIGHT
TZOFFSETFROM:+0000
TZOFFSETTO:+0100
TZNAME:BST
DTSTART:20260329T010000
END:DAYLIGHT
BEGIN:STANDARD
TZOFFSETFROM:+0100
TZOFFSETTO:+0000
TZNAME:GMT
DTSTART:20261025T010000
END:STANDARD
BEGIN:DAYLIGHT
TZOFFSETFROM:+0000
TZOFFSETTO:+0100
TZNAME:BST
DTSTART:20270328T010000
END:DAYLIGHT
BEGIN:STANDARD
TZOFFSETFROM:+0100
TZOFFSETTO:+0000
TZNAME:GMT
DTSTART:20271031T010000
END:STANDARD
END:VTIMEZONE
BEGIN:VEVENT
DTSTART;TZID=Europe/London:20260113T184500
DTEND;TZID=Europe/London:20260113T201500
DTSTAMP:20260422T165819
CREATED:20251204T101106Z
LAST-MODIFIED:20260107T163658Z
UID:6423-1768329900-1768335300@www.tiptreeparishcouncil.gov.uk
SUMMARY:Full Council Committee Meeting
DESCRIPTION:Agenda for Full Council Meeting
URL:https://www.tiptreeparishcouncil.gov.uk/calendar/full-council-committee-meeting/
LOCATION:Tiptree Community Centre – The Small Hall
END:VEVENT
BEGIN:VEVENT
DTSTART;TZID=Europe/London:20260113T201500
DTEND;TZID=Europe/London:20260113T211500
DTSTAMP:20260422T165819
CREATED:20251204T103438Z
LAST-MODIFIED:20260107T163854Z
UID:6427-1768335300-1768338900@www.tiptreeparishcouncil.gov.uk
SUMMARY:Planning & Highways Committee Meeting
DESCRIPTION:Agenda for Planning and Highways meeting
URL:https://www.tiptreeparishcouncil.gov.uk/calendar/planning-highways-committee-meeting-2/
END:VEVENT
BEGIN:VEVENT
DTSTART;TZID=Europe/London:20260119T190000
DTEND;TZID=Europe/London:20260119T200000
DTSTAMP:20260422T165820
CREATED:20251204T103638Z
LAST-MODIFIED:20260112T163444Z
UID:6429-1768849200-1768852800@www.tiptreeparishcouncil.gov.uk
SUMMARY:Policy & Finance Committee Meeting
DESCRIPTION:Agenda for the policy and finance meeting
URL:https://www.tiptreeparishcouncil.gov.uk/calendar/policy-finance-committee-meeting/
LOCATION:Tiptree Community Centre – Meeting Room
END:VEVENT
BEGIN:VEVENT
DTSTART;TZID=Europe/London:20260120T190000
DTEND;TZID=Europe/London:20260120T200000
DTSTAMP:20260422T165820
CREATED:20251204T103747Z
LAST-MODIFIED:20260114T163207Z
UID:6431-1768935600-1768939200@www.tiptreeparishcouncil.gov.uk
SUMMARY:Amenities & Environment Committee Meeting
DESCRIPTION:Agenda for Amenities and Enviroment meeting
URL:https://www.tiptreeparishcouncil.gov.uk/calendar/amenities-environment-committee-meeting/
LOCATION:Tiptree Community Centre – Meeting Room
END:VEVENT
BEGIN:VEVENT
DTSTART;TZID=Europe/London:20260127T190000
DTEND;TZID=Europe/London:20260127T200000
DTSTAMP:20260422T165820
CREATED:20251204T103910Z
LAST-MODIFIED:20260122T184659Z
UID:6433-1769540400-1769544000@www.tiptreeparishcouncil.gov.uk
SUMMARY:Community & Indoor Spaces Committee Meeting
DESCRIPTION:Agenda for Community and indoor spaces 
URL:https://www.tiptreeparishcouncil.gov.uk/calendar/community-indoor-spaces-committee-meeting/
LOCATION:Tiptree Community Centre – Meeting Room
END:VEVENT
END:VCALENDAR